BEGIN:VCALENDAR
VERSION:2.0
PRODID:-//ශ්‍රී රංකඩු පත්තිනි දේවාලය - ECPv6.15.20//NONSGML v1.0//EN
CALSCALE:GREGORIAN
METHOD:PUBLISH
X-ORIGINAL-URL:https://rankadupaththinidevalaya.lk
X-WR-CALDESC:Events for ශ්‍රී රංකඩු පත්තිනි දේවාලය
REFRESH-INTERVAL;VALUE=DURATION:PT1H
X-Robots-Tag:noindex
X-PUBLISHED-TTL:PT1H
BEGIN:VTIMEZONE
TZID:UTC
BEGIN:STANDARD
TZOFFSETFROM:+0000
TZOFFSETTO:+0000
TZNAME:UTC
DTSTART:20220101T000000
END:STANDARD
END:VTIMEZONE
BEGIN:VEVENT
DTSTART;VALUE=DATE:20230821
DTEND;VALUE=DATE:20260812
DTSTAMP:20260423T060151
CREATED:20260320T084711Z
LAST-MODIFIED:20260320T085244Z
UID:29421-1692576000-1786492799@rankadupaththinidevalaya.lk
SUMMARY:Garayak Shanthikarma
DESCRIPTION:Marking the conclusion of the 211th Annual Esala Maha Festival of the Kadudevola Siddha Rankadu Paththini Devalaya\, the Garayak Shanthikarma was conducted to invoke blessings and peace upon all those who contributed to the success of this year’s Esala Festival. \nThis sacred ritual was performed to bestow blessings upon the Chief Basnayake Nilame of the Devalaya\, Mr. Kularathne Wijethunga\, the Executive Officer\, Mr. Shamal Wijethunga\, the members of the Devalaya Pooja Upahara Committee\, the villagers\, and all devotees who supported the Esala Maha Festival in numerous ways. \nThe principal sponsorship for this Garayak Shanthikarma was generously undertaken by Mr. M. G. Pushpakumara\, Proprietor of Lower Bomiriya Oushadhi Garden Service\, in devotion and goodwill. \nMay the divine power of the Siddha Keela Garayak Deity protect you all\, granting good health\, peace of mind\, and freedom from illness\, suffering\, and fear. \nMay the blessings of Goddess Sath Paththini be with you!\nMay the Triple Gem bless you! \n 
URL:https://rankadupaththinidevalaya.lk/event/garayak-shanthikarma/
CATEGORIES:Esala Perahera En
ATTACH;FMTTYPE=image/jpeg:https://rankadupaththinidevalaya.lk/wp-content/uploads/2023/10/Untitled-design-2023-10-02T174036.064.jpg
END:VEVENT
END:VCALENDAR