BEGIN:VCALENDAR
VERSION:2.0
PRODID:-//ශ්‍රී රංකඩු පත්තිනි දේවාලය - ECPv6.15.20//NONSGML v1.0//EN
CALSCALE:GREGORIAN
METHOD:PUBLISH
X-WR-CALNAME:ශ්‍රී රංකඩු පත්තිනි දේවාලය
X-ORIGINAL-URL:https://rankadupaththinidevalaya.lk
X-WR-CALDESC:Events for ශ්‍රී රංකඩු පත්තිනි දේවාලය
REFRESH-INTERVAL;VALUE=DURATION:PT1H
X-Robots-Tag:noindex
X-PUBLISHED-TTL:PT1H
BEGIN:VTIMEZONE
TZID:UTC
BEGIN:STANDARD
TZOFFSETFROM:+0000
TZOFFSETTO:+0000
TZNAME:UTC
DTSTART:20220101T000000
END:STANDARD
END:VTIMEZONE
BEGIN:VEVENT
DTSTART;TZID=UTC:20230712T180000
DTEND;TZID=UTC:20230721T220000
DTSTAMP:20260423T122627
CREATED:20231001T132552Z
LAST-MODIFIED:20231001T132552Z
UID:25379-1689184800-1689976800@rankadupaththinidevalaya.lk
SUMMARY:රංදෝලි පෙරහැර
DESCRIPTION:කැළණි ගං මිටියාවතේ අතිඋත්කර්ෂවත් වූ මහා සංස්කෘතික මංගල්‍යය \, ඓතිහාසික කඩුදෙවොල සිද්ධ රංකඩු පත්තිනි දේවාලස්ථානයේ 211 වන ඇසළ මහා පෙරහැර මංගලෝත්සවයේ වීථි මහා පෙරහරෙහි අලි ඇතුන් සහිත අවසන් රන්දෝලි පෙරහැර (12) දේවාලස්ථ වීථිය වටා වීථි සංචාරය කරන ලදී. \nඊයේ දින පෙරහැර දායකත්වය ඒශියන් ලංකා මාකටින් අධිපති ඩව්ලිව්.කේ.සිසිර මැතිතුමා ඇතුළු පවුලේ සැම විසින් දරනු ලැබීය. \nසධාතුක කරඩුව වැඩම කරලීමේ පින්බර අවස්ථාව දේවාලස්ථ මංගල හස්තිරාජයා වන තාරක රංඩුක හස්තියාට හිමි වූ අතර විෂ්ණු දෙවියන්ගේ දේවාභරණ හැඳල පුරාණ විහාරයට අයත් අරුණ හස්තියාගේ පිටමත නිලන්ත ජයදින මහතා විසින් ද පත්තිනි මෑණියන්ගේ දේවාභරණ කඩුවෙල කොතලාවල සංඛපිට්ඨි පුරාණ විහාරස්ථානයට අයත් කණ්ඩුල වීරා හස්තියාගෙ පිටමත දේවාලස්ථ කෘත්‍යාධිකාරි ශමාල් විජේතුංග මැතිතුමන් විසින් ද වඩමවනු ලැබීය. \nඋඩපහතරට හා විචිත්‍රවත් නර්තනාංගයන්ගෙන් පරිපූර්ණ වූ පෙරහැරට බියගම දීප්ති කුමාර මහතාට අයත් රාණි ඇතින්නත් \, සුරණි ඇතින්නි පැටවාත් එක්විය. \nදේවාලස්ථ ප්‍රධාන බස්නායක නිළමේතුමන් වන කුලරත්ත විජේතුංග මහතාගේත් දේවාලස්ථ කෘත්‍යාධිකාරි ශමාල් විජේතුංග මහතාගේත් මඟපෙන්වීම මත සිදු කෙරෙන මෙවර ඇසළ මංගල්‍යය ලබන අගෝස්තු මස 21 වන දින දක්වා පැවැත්වේ. \nමෙත් සිත් පෙරදැරි මාධ්‍ය සද්ප්‍රයාමය\, \nකඩුදෙවොල සිද්ධ රංකඩු පත්තිනි දේවාලස්ථ මාධ්‍ය ඒකකය.
URL:https://rankadupaththinidevalaya.lk/event/%e0%b6%bb%e0%b6%82%e0%b6%af%e0%b7%9d%e0%b6%bd%e0%b7%92-%e0%b6%b4%e0%b7%99%e0%b6%bb%e0%b7%84%e0%b7%90%e0%b6%bb/
LOCATION:Western
CATEGORIES:Esala Perahera
ATTACH;FMTTYPE=image/jpeg:https://rankadupaththinidevalaya.lk/wp-content/uploads/2023/10/IMG_3925-scaled.jpg
END:VEVENT
BEGIN:VEVENT
DTSTART;TZID=UTC:20230707T080000
DTEND;TZID=UTC:20230721T170000
DTSTAMP:20260423T122627
CREATED:20231001T130357Z
LAST-MODIFIED:20231001T130726Z
UID:25376-1688716800-1689958800@rankadupaththinidevalaya.lk
SUMMARY:ගොන්පිට පෙරහැර
DESCRIPTION:කැළණි ගං මිටියාවතේ අතිඋත්කර්ෂවත් වූ මහා සංස්කෘතික මංගල්‍යය ලෙසින් සැළකෙන ඓතිහාසික සිද්ධ රංකඩු පත්තිනි දේවාලස්ථ ඇසළ මහා පෙරහැර මංගලෝත්සවයේ 211 වන දිගහැරුම සනිටුහන් වන මෙවර පෙරහැර මංගල්‍යයේ උඩමළුවේ තෙවන ගොන්පිට පෙරහැර අද (07) දින වීථි සංචාරය කරන්නට විය. \nඅද (07) දින පෙරහැර දායකත්වය වෙළඳ ව්‍යාපාරික ගැමුණුපුර පදිංචි ඩබ්ලිව්.තිලක් පුෂ්පකුමාර පෙරේරා මැතිතුමා ඇතුළු පවුලේ සැම විසින් දරනු ලැබීය. \nසධාතුක කරඩුව හා දේවාභරණ ගවමස්තකාරූඪව වැඩම කෙරුණු අතර විචිත්‍ර නර්තනාංගයන්ගෙන්ද පෙරහැර අලංකාරවත් විය. \nදේවාලස්ථ ප්‍රධාන බස්නායක නිළමේතුමන් වන කුලරත්ත විජේතුංග මහතාගේත් දේවාලස්ථ කෘත්‍යාධිකාරි ශමාල් විජේතුංග මහතාගේත් මඟපෙන්වීම මත සිදු කෙරෙන මෙවර ඇසළ මංගල්‍යය ලබන අගෝස්තු මස 21 වන දින දක්වා පැවැත්වේ. \nමෙත්සිත් පෙරදැරි මාධ්‍ය සද්ප්‍රයාමය\, \nකඩුදෙවොල රංකඩු පත්තිනි දේවාලස්ථ මාධ්‍ය ඒකකය.
URL:https://rankadupaththinidevalaya.lk/event/%e0%b6%9c%e0%b7%9c%e0%b6%b1%e0%b7%8a%e0%b6%b4%e0%b7%92%e0%b6%a7-%e0%b6%b4%e0%b7%99%e0%b6%bb%e0%b7%84%e0%b7%90%e0%b6%bb/
LOCATION:Western
CATEGORIES:Esala Perahera
ATTACH;FMTTYPE=image/jpeg:https://rankadupaththinidevalaya.lk/wp-content/uploads/2023/10/IMG_2863-scaled.jpg
END:VEVENT
BEGIN:VEVENT
DTSTART;TZID=UTC:20230705T170600
DTEND;TZID=UTC:20230705T180600
DTSTAMP:20260423T122627
CREATED:20231001T112920Z
LAST-MODIFIED:20231001T113031Z
UID:25356-1688576760-1688580360@rankadupaththinidevalaya.lk
SUMMARY:කප් සිටුවීම
DESCRIPTION:ඓතිහාසික කඩුදෙවොල සිද්ධ රංකඩු පත්තිනි දේවාලස්ථානයේ 211 වන ඇසළ මහා පෙරහැර මංගල්‍යයේ ආරම්භය සනිටුහන් කරමින් නුවර සම්ප්‍රදායානුකූලව මඟුල් කප් සිටුවීම අද සවස 05.06 ට යෙඳුණු නැකැත් වෙලාවෙන් සිදු කරන්නට යෙදුණි. \nදේවාලස්ථ ප්‍රධාන භාරකාර තැන්පත් කුලරත්න විජේතුංග මැතිතුමන්ගේ හා කෘත්‍යාධිකාරි ශමාල් විජේතුංග මැතිතුමන්ගේ මූලිකත්වයෙන් දේවාලස්ථ පූජෝපහාර සමිතියේ නිළධාරි මඩුල්ලගේත් ගම්වාසීන්ගේත් සහභාගිත්වයෙන් කප් සිටුවීමේ චාරිත්‍රය පුරාණ සිරිත් පරිඳි ඉටු කෙරුණු වගයි. \n” වියන් අල්ලා ගෙන වසාලා ගෙනත් කප මඩුව මැදේ… \nලවින් කිරි පැන් නානුමුර කර සඳුන් ගාවා නිමරැදේ… \nවසින් රුව ඇති පතිනි ඒ කප හිස තබාගෙන සබ මැදේ… \nඅසන් තුන් විට ආවඩාලා ගසා දොස හැර සුබ පදේ… “ \nතෙරුවන් සරණයි! \nසත්පත්තිනි මෑණියන්ගේ පිහිටයි! \nමාධ්‍ය අංශය\, \nකඩුදෙවොල සිද්ධ රංකඩු පත්තිනි දේවාලය.
URL:https://rankadupaththinidevalaya.lk/event/%e0%b6%9a%e0%b6%b4%e0%b7%8a-%e0%b7%83%e0%b7%92%e0%b6%a7%e0%b7%94%e0%b7%80%e0%b7%93%e0%b6%b8/
LOCATION:Western
CATEGORIES:Esala Perahera
ATTACH;FMTTYPE=image/jpeg:https://rankadupaththinidevalaya.lk/wp-content/uploads/2020/04/IMG_0089-1-scaled.jpg
END:VEVENT
END:VCALENDAR