BEGIN:VCALENDAR
VERSION:2.0
PRODID:-//ශ්‍රී රංකඩු පත්තිනි දේවාලය - ECPv6.15.20//NONSGML v1.0//EN
CALSCALE:GREGORIAN
METHOD:PUBLISH
X-WR-CALNAME:ශ්‍රී රංකඩු පත්තිනි දේවාලය
X-ORIGINAL-URL:https://rankadupaththinidevalaya.lk
X-WR-CALDESC:Events for ශ්‍රී රංකඩු පත්තිනි දේවාලය
REFRESH-INTERVAL;VALUE=DURATION:PT1H
X-Robots-Tag:noindex
X-PUBLISHED-TTL:PT1H
BEGIN:VTIMEZONE
TZID:UTC
BEGIN:STANDARD
TZOFFSETFROM:+0000
TZOFFSETTO:+0000
TZNAME:UTC
DTSTART:20220101T000000
END:STANDARD
END:VTIMEZONE
BEGIN:VEVENT
DTSTART;TZID=UTC:20230705T170600
DTEND;TZID=UTC:20230705T180600
DTSTAMP:20260423T154739
CREATED:20231001T112920Z
LAST-MODIFIED:20231001T113031Z
UID:25356-1688576760-1688580360@rankadupaththinidevalaya.lk
SUMMARY:කප් සිටුවීම
DESCRIPTION:ඓතිහාසික කඩුදෙවොල සිද්ධ රංකඩු පත්තිනි දේවාලස්ථානයේ 211 වන ඇසළ මහා පෙරහැර මංගල්‍යයේ ආරම්භය සනිටුහන් කරමින් නුවර සම්ප්‍රදායානුකූලව මඟුල් කප් සිටුවීම අද සවස 05.06 ට යෙඳුණු නැකැත් වෙලාවෙන් සිදු කරන්නට යෙදුණි. \nදේවාලස්ථ ප්‍රධාන භාරකාර තැන්පත් කුලරත්න විජේතුංග මැතිතුමන්ගේ හා කෘත්‍යාධිකාරි ශමාල් විජේතුංග මැතිතුමන්ගේ මූලිකත්වයෙන් දේවාලස්ථ පූජෝපහාර සමිතියේ නිළධාරි මඩුල්ලගේත් ගම්වාසීන්ගේත් සහභාගිත්වයෙන් කප් සිටුවීමේ චාරිත්‍රය පුරාණ සිරිත් පරිඳි ඉටු කෙරුණු වගයි. \n” වියන් අල්ලා ගෙන වසාලා ගෙනත් කප මඩුව මැදේ… \nලවින් කිරි පැන් නානුමුර කර සඳුන් ගාවා නිමරැදේ… \nවසින් රුව ඇති පතිනි ඒ කප හිස තබාගෙන සබ මැදේ… \nඅසන් තුන් විට ආවඩාලා ගසා දොස හැර සුබ පදේ… “ \nතෙරුවන් සරණයි! \nසත්පත්තිනි මෑණියන්ගේ පිහිටයි! \nමාධ්‍ය අංශය\, \nකඩුදෙවොල සිද්ධ රංකඩු පත්තිනි දේවාලය.
URL:https://rankadupaththinidevalaya.lk/event/%e0%b6%9a%e0%b6%b4%e0%b7%8a-%e0%b7%83%e0%b7%92%e0%b6%a7%e0%b7%94%e0%b7%80%e0%b7%93%e0%b6%b8/
CATEGORIES:Esala Perahera
ATTACH;FMTTYPE=image/jpeg:https://rankadupaththinidevalaya.lk/wp-content/uploads/2020/04/IMG_0089-1-scaled.jpg
END:VEVENT
END:VCALENDAR